BEGIN:VCALENDAR
BEGIN:VEVENT
DESCRIPTION:\nMore Information: https://firehouse.dctvny.org/websales/pages/TicketSearchCriteria.aspx?evtInfo=520405~2998286f-8e4b-4c31-9017-dcced8ffebb3&\n\n
DTSTART:20251122T190000Z
DTEND:20251122T202700Z
LOCATION:Firehouse Cinema, 87 Lafayette Street, New York, NY, 10013
SUMMARY:REMAINING NATIVE
UID:520405
DTSTAMP:20260419T083107Z
END:VEVENT
END:VCALENDAR
