BEGIN:VCALENDAR
BEGIN:VEVENT
DESCRIPTION:\nMore Information: https://firehouse.dctvny.org/websales/pages/TicketSearchCriteria.aspx?evtInfo=549386~2998286f-8e4b-4c31-9017-dcced8ffebb3&\n\n
DTSTART:20260428T223000Z
DTEND:20260429T001100Z
LOCATION:Firehouse Cinema, 87 Lafayette Street, New York, NY, 10013
SUMMARY:CONBODY VS EVERYBODY
UID:549386
DTSTAMP:20260420T024158Z
END:VEVENT
END:VCALENDAR
