BEGIN:VCALENDAR
BEGIN:VEVENT
DESCRIPTION:\nMore Information: https://firehouse.dctvny.org/websales/pages/TicketSearchCriteria.aspx?evtInfo=549387~2998286f-8e4b-4c31-9017-dcced8ffebb3&\n\n
DTSTART:20260429T223000Z
DTEND:20260430T002600Z
LOCATION:Firehouse Cinema, 87 Lafayette Street, New York, NY, 10013
SUMMARY:CONBODY VS EVERYBODY
UID:549387
DTSTAMP:20260420T024127Z
END:VEVENT
END:VCALENDAR
