BEGIN:VCALENDAR
BEGIN:VEVENT
DESCRIPTION:\nMore Information: https://firehouse.dctvny.org/websales/pages/TicketSearchCriteria.aspx?evtInfo=549389~2998286f-8e4b-4c31-9017-dcced8ffebb3&\n\n
DTSTART:20260501T223000Z
DTEND:20260502T002300Z
LOCATION:Firehouse Cinema, 87 Lafayette Street, New York, NY, 10013
SUMMARY:CONBODY VS EVERYBODY
UID:549389
DTSTAMP:20260420T024106Z
END:VEVENT
END:VCALENDAR
