BEGIN:VCALENDAR
BEGIN:VEVENT
DESCRIPTION:\nMore Information: https://firehouse.dctvny.org/websales/pages/TicketSearchCriteria.aspx?evtInfo=549945~2998286f-8e4b-4c31-9017-dcced8ffebb3&\n\n
DTSTART:20260426T180000Z
DTEND:20260426T192900Z
LOCATION:Firehouse Cinema, 87 Lafayette Street, New York, NY, 10013
SUMMARY:VIKTOR
UID:549945
DTSTAMP:20260420T023923Z
END:VEVENT
END:VCALENDAR
