BEGIN:VCALENDAR
BEGIN:VEVENT
DESCRIPTION:\nMore Information: https://firehouse.dctvny.org/websales/pages/TicketSearchCriteria.aspx?evtInfo=551597~2998286f-8e4b-4c31-9017-dcced8ffebb3&\n\n
DTSTART:20260430T190000Z
DTEND:20260430T201300Z
LOCATION:Firehouse Cinema, 87 Lafayette Street, New York, NY, 10013
SUMMARY:GOODBYE, CRESCENT MOON + MORE SHORT FILMS
UID:551597
DTSTAMP:20260420T024004Z
END:VEVENT
END:VCALENDAR
