BEGIN:VCALENDAR
BEGIN:VEVENT
DESCRIPTION:\nMore Information: https://firehouse.dctvny.org/websales/pages/TicketSearchCriteria.aspx?evtInfo=551598~2998286f-8e4b-4c31-9017-dcced8ffebb3&\n\n
DTSTART:20260430T210000Z
DTEND:20260430T222800Z
LOCATION:Firehouse Cinema, 87 Lafayette Street, New York, NY, 10013
SUMMARY:AFTERLIVES
UID:551598
DTSTAMP:20260420T024229Z
END:VEVENT
END:VCALENDAR
