BEGIN:VCALENDAR
BEGIN:VEVENT
DESCRIPTION:\nMore Information: https://firehouse.dctvny.org/websales/pages/TicketSearchCriteria.aspx?evtInfo=551601~2998286f-8e4b-4c31-9017-dcced8ffebb3&\n\n
DTSTART:20260501T034500Z
DTEND:20260501T045500Z
LOCATION:Firehouse Cinema, 87 Lafayette Street, New York, NY, 10013
SUMMARY:ANNA + MORE SHORT FILMS
UID:551601
DTSTAMP:20260420T023815Z
END:VEVENT
END:VCALENDAR
