BEGIN:VCALENDAR
BEGIN:VEVENT
DESCRIPTION:\nMore Information: https://firehouse.dctvny.org/websales/pages/TicketSearchCriteria.aspx?evtInfo=551832~2998286f-8e4b-4c31-9017-dcced8ffebb3&\n\n
DTSTART:20260427T230000Z
DTEND:20260428T003000Z
LOCATION:Firehouse Cinema, 87 Lafayette Street, New York, NY, 10013
SUMMARY:Symbiosis x Infinite Sums
UID:551832
DTSTAMP:20260420T023831Z
END:VEVENT
END:VCALENDAR
