BEGIN:VCALENDAR
BEGIN:VEVENT
DESCRIPTION:\nMore Information: https://firehouse.dctvny.org/websales/pages/TicketSearchCriteria.aspx?evtInfo=552161~2998286f-8e4b-4c31-9017-dcced8ffebb3&\n\n
DTSTART:20260514T203000Z
DTEND:20260514T215900Z
LOCATION:Firehouse Cinema, 87 Lafayette Street, New York, NY, 10013
SUMMARY:LOUDER THAN GUNS
UID:552161
DTSTAMP:20260420T024300Z
END:VEVENT
END:VCALENDAR
